BEGIN:VCALENDAR
VERSION:2.0
METHOD:PUBLISH
PRODID:-//Telerik Inc.//Sitefinity CMS 12.2//EN
BEGIN:VEVENT
DESCRIPTION:
DTEND;VALUE=DATE:20170601
DTSTAMP:20210428T134534Z
DTSTART;VALUE=DATE:20170531
LOCATION:
SEQUENCE:0
SUMMARY:American Axle & Manufacturing\, Inc. at KeyBanc Industrial\, Automo
 tive & Transportation Conference
UID:RFCALITEM637552143348420176
X-ALT-DESC;FMTTYPE=text/html:
END:VEVENT
END:VCALENDAR
